BEGIN:VCALENDAR
VERSION:2.0
PRODID:-//hacksw/handcal//NONSGML v1.0//EN
BEGIN:VEVENT
UID:25d98f85f1928dee10304afe9b3a7481
DTSTAMP:20260423T133624Z

DTSTART:20250304T173000
DTEND:20250304T183000
SUMMARY:Battle Prep - 1 Thessalonians - 3.04
DESCRIPTION:⚔ 1 Thessalonians ⚔\nBattle Prep\nTuesday 3.04\n5:30 CT

X-ALT-DESC;FMTTYPE=text/html:<!DOCTYPE HTML PUBLIC "-//W3C//DTD HTML 3.2//EN">\n<HTML>\n<HEAD>\n<META NAME="Generator" CONTENT="MS Exchange Server version 08.00.0681.000">\n<TITLE></TITLE>\n</HEAD>\n<BODY>\n<!-- Converted from text/rtf format -->\n\n⚔ 1 Thessalonians ⚔<br />Battle Prep<br />Tuesday 3.04<br />5:30 CT\n\n</BODY>\n</HTML>

LOCATION:
END:VEVENT

END:VCALENDAR
