BEGIN:VCALENDAR
VERSION:2.0
PRODID:-//hacksw/handcal//NONSGML v1.0//EN
BEGIN:VEVENT
UID:f162bc6fcbcf7c801af44ad9b6c4a516
DTSTAMP:20260423T194900Z

DTSTART:20250401T173000
DTEND:20250401T183000
SUMMARY:Battle Prep - 2 Peter - 4.01
DESCRIPTION:⚔ 2 Peter ⚔\nBattle Prep\nTuesday 4.01\n5:30 CT

X-ALT-DESC;FMTTYPE=text/html:<!DOCTYPE HTML PUBLIC "-//W3C//DTD HTML 3.2//EN">\n<HTML>\n<HEAD>\n<META NAME="Generator" CONTENT="MS Exchange Server version 08.00.0681.000">\n<TITLE></TITLE>\n</HEAD>\n<BODY>\n<!-- Converted from text/rtf format -->\n\n⚔ 2 Peter ⚔<br />Battle Prep<br />Tuesday 4.01<br />5:30 CT\n\n</BODY>\n</HTML>

LOCATION:
END:VEVENT

END:VCALENDAR
