BEGIN:VCALENDAR
VERSION:2.0
PRODID:-//hacksw/handcal//NONSGML v1.0//EN
BEGIN:VEVENT
UID:742c22b0f6bc29bf0c1873769075cbf1
DTSTAMP:20260423T135414Z

DTSTART:20251021T173000
DTEND:20251021T183000
SUMMARY:Battle Prep - 300 - 10.21
DESCRIPTION:⚔ 300 ⚔\nBattle Prep\nTuesday 10.21\n5:30 CT

X-ALT-DESC;FMTTYPE=text/html:<!DOCTYPE HTML PUBLIC "-//W3C//DTD HTML 3.2//EN">\n<HTML>\n<HEAD>\n<META NAME="Generator" CONTENT="MS Exchange Server version 08.00.0681.000">\n<TITLE></TITLE>\n</HEAD>\n<BODY>\n<!-- Converted from text/rtf format -->\n\n⚔ 300 ⚔<br />Battle Prep<br />Tuesday 10.21<br />5:30 CT\n\n</BODY>\n</HTML>

LOCATION:
END:VEVENT

END:VCALENDAR
