BEGIN:VCALENDAR
VERSION:2.0
PRODID:-//hacksw/handcal//NONSGML v1.0//EN
BEGIN:VEVENT
UID:12763a7558ade5811a397a679876b5a5
DTSTAMP:20260423T094419Z

DTSTART:20240806T173000
DTEND:20240806T183000
SUMMARY:Battle Prep - Alignment - 08.06
DESCRIPTION:⚔ Alignment ⚔
Battle Prep
Tuesday 08.06
5:30 CT

X-ALT-DESC;FMTTYPE=text/html:<!DOCTYPE HTML PUBLIC "-//W3C//DTD HTML 3.2//EN">\n<HTML>\n<HEAD>\n<META NAME="Generator" CONTENT="MS Exchange Server version 08.00.0681.000">\n<TITLE></TITLE>\n</HEAD>\n<BODY>\n<!-- Converted from text/rtf format -->\n\n⚔ Alignment ⚔
Battle Prep
Tuesday 08.06
5:30 CT\n\n</BODY>\n</HTML>

LOCATION:
END:VEVENT

END:VCALENDAR
