BEGIN:VCALENDAR
VERSION:2.0
PRODID:-//hacksw/handcal//NONSGML v1.0//EN
BEGIN:VEVENT
UID:5a537aa5d1e7fdac5670dcb55d5e70ac
DTSTAMP:20260423T094913Z

DTSTART:20250415T173000
DTEND:20250415T183000
SUMMARY:Battle Prep - Anniversary - 04.15
DESCRIPTION:⚔ Anniversary ⚔\nBattle Prep\nTuesday 4.15\n5:30 CT

X-ALT-DESC;FMTTYPE=text/html:<!DOCTYPE HTML PUBLIC "-//W3C//DTD HTML 3.2//EN">\n<HTML>\n<HEAD>\n<META NAME="Generator" CONTENT="MS Exchange Server version 08.00.0681.000">\n<TITLE></TITLE>\n</HEAD>\n<BODY>\n<!-- Converted from text/rtf format -->\n\n⚔ Anniversary ⚔<br />Battle Prep<br />Tuesday 4.15<br />5:30 CT\n\n</BODY>\n</HTML>

LOCATION:
END:VEVENT

END:VCALENDAR
