BEGIN:VCALENDAR
VERSION:2.0
PRODID:-//hacksw/handcal//NONSGML v1.0//EN
BEGIN:VEVENT
UID:5847470decccab1a70922ac56d3cea74
DTSTAMP:20260423T133626Z

DTSTART:20241029T173000
DTEND:20241029T183000
SUMMARY:Battle Prep - Brotherhood - 10.29
DESCRIPTION:⚔ Brotherhood ⚔
Battle Prep
Tuesday 10.29
5:30 CT

X-ALT-DESC;FMTTYPE=text/html:<!DOCTYPE HTML PUBLIC "-//W3C//DTD HTML 3.2//EN">\n<HTML>\n<HEAD>\n<META NAME="Generator" CONTENT="MS Exchange Server version 08.00.0681.000">\n<TITLE></TITLE>\n</HEAD>\n<BODY>\n<!-- Converted from text/rtf format -->\n\n⚔ Brotherhood ⚔
Battle Prep
Tuesday 10.29
5:30 CT\n\n</BODY>\n</HTML>

LOCATION:
END:VEVENT

END:VCALENDAR
