BEGIN:VCALENDAR
VERSION:2.0
PRODID:-//hacksw/handcal//NONSGML v1.0//EN
BEGIN:VEVENT
UID:f80ace7613c371ff92e94f997c0c8123
DTSTAMP:20260423T235204Z

DTSTART:20250906T203000
DTEND:20250906T213000
SUMMARY:Battle Prep - Communion + Hot Wash - 9.06
DESCRIPTION:⚔ Communion + Hot Wash ⚔\nBattle Prep\nSaturday 9.06\n8:30 PM CT\n\nWe will be having a special Communion + Hot Wash this Saturday for Battle Prep.\n\n"Battle Prep - Hot Wash" is a weekly informal open discussion. It is a chance to get to know other members, chat about the prior week, and is a casual setting.

X-ALT-DESC;FMTTYPE=text/html:<!DOCTYPE HTML PUBLIC "-//W3C//DTD HTML 3.2//EN">\n<HTML>\n<HEAD>\n<META NAME="Generator" CONTENT="MS Exchange Server version 08.00.0681.000">\n<TITLE></TITLE>\n</HEAD>\n<BODY>\n<!-- Converted from text/rtf format -->\n\n⚔ Communion + Hot Wash ⚔<br />Battle Prep<br />Saturday 9.06<br />8:30 PM CT<br /><br />We will be having a special Communion + Hot Wash this Saturday for Battle Prep.<br /><br />"Battle Prep - Hot Wash" is a weekly informal open discussion. It is a chance to get to know other members, chat about the prior week, and is a casual setting.\n\n</BODY>\n</HTML>

LOCATION:
END:VEVENT

END:VCALENDAR
