BEGIN:VCALENDAR
VERSION:2.0
PRODID:-//hacksw/handcal//NONSGML v1.0//EN
BEGIN:VEVENT
UID:355efb26e998b135a8fa87e9ebe365a6
DTSTAMP:20260423T121058Z

DTSTART:20250701T173000
DTEND:20250701T183000
SUMMARY:Battle Prep - Deuteronomy - 7.01
DESCRIPTION:⚔ Deuteronomy ⚔\nBattle Prep\nTuesday 7.01\n5:30 CT

X-ALT-DESC;FMTTYPE=text/html:<!DOCTYPE HTML PUBLIC "-//W3C//DTD HTML 3.2//EN">\n<HTML>\n<HEAD>\n<META NAME="Generator" CONTENT="MS Exchange Server version 08.00.0681.000">\n<TITLE></TITLE>\n</HEAD>\n<BODY>\n<!-- Converted from text/rtf format -->\n\n⚔ Deuteronomy ⚔<br />Battle Prep<br />Tuesday 7.01<br />5:30 CT\n\n</BODY>\n</HTML>

LOCATION:
END:VEVENT

END:VCALENDAR
