BEGIN:VCALENDAR
VERSION:2.0
PRODID:-//hacksw/handcal//NONSGML v1.0//EN
BEGIN:VEVENT
UID:d33ad9f22f51f3188b2a196a5677aafe
DTSTAMP:20260423T234101Z

DTSTART:20250924T180000
DTEND:20250924T190000
SUMMARY:Battle Prep - Faith & Grace - Every Wednesday
DESCRIPTION:⚔ Faith & Grace ⚔\nBattle Prep\nEvery Wednesday\n6:00 PM CT\n\nWomen's Only Bible Study and Fellowship

X-ALT-DESC;FMTTYPE=text/html:<!DOCTYPE HTML PUBLIC "-//W3C//DTD HTML 3.2//EN">\n<HTML>\n<HEAD>\n<META NAME="Generator" CONTENT="MS Exchange Server version 08.00.0681.000">\n<TITLE></TITLE>\n</HEAD>\n<BODY>\n<!-- Converted from text/rtf format -->\n\n⚔ Faith & Grace ⚔<br />Battle Prep<br />Every Wednesday<br />6:00 PM CT<br /><br />Women's Only Bible Study and Fellowship\n\n</BODY>\n</HTML>

LOCATION:
END:VEVENT

END:VCALENDAR
