BEGIN:VCALENDAR
VERSION:2.0
PRODID:-//hacksw/handcal//NONSGML v1.0//EN
BEGIN:VEVENT
UID:2ebd0cbf4a61c12b71306ae29b1aa6ca
DTSTAMP:20260423T181737Z

DTSTART:20250715T173000
DTEND:20250715T183000
SUMMARY:Battle Prep - Father's Blessing - 7.15
DESCRIPTION:⚔ Father's Blessing ⚔\nBattle Prep\nTuesday 7.15\n5:30 CT

X-ALT-DESC;FMTTYPE=text/html:<!DOCTYPE HTML PUBLIC "-//W3C//DTD HTML 3.2//EN">\n<HTML>\n<HEAD>\n<META NAME="Generator" CONTENT="MS Exchange Server version 08.00.0681.000">\n<TITLE></TITLE>\n</HEAD>\n<BODY>\n<!-- Converted from text/rtf format -->\n\n⚔ Father's Blessing ⚔<br />Battle Prep<br />Tuesday 7.15<br />5:30 CT\n\n</BODY>\n</HTML>

LOCATION:
END:VEVENT

END:VCALENDAR
