BEGIN:VCALENDAR
VERSION:2.0
PRODID:-//hacksw/handcal//NONSGML v1.0//EN
BEGIN:VEVENT
UID:f4b863098d2591b38d0df1a7ba441d6c
DTSTAMP:20260423T181711Z

DTSTART:20250318T173000
DTEND:20250318T183000
SUMMARY:Battle Prep - Fearless - 3.18
DESCRIPTION:⚔ Fearless ⚔\nBattle Prep\nTuesday 2.25\n5:30 CT

X-ALT-DESC;FMTTYPE=text/html:<!DOCTYPE HTML PUBLIC "-//W3C//DTD HTML 3.2//EN">\n<HTML>\n<HEAD>\n<META NAME="Generator" CONTENT="MS Exchange Server version 08.00.0681.000">\n<TITLE></TITLE>\n</HEAD>\n<BODY>\n<!-- Converted from text/rtf format -->\n\n⚔ Fearless ⚔<br />Battle Prep<br />Tuesday 2.25<br />5:30 CT\n\n</BODY>\n</HTML>

LOCATION:
END:VEVENT

END:VCALENDAR
