BEGIN:VCALENDAR
VERSION:2.0
PRODID:-//hacksw/handcal//NONSGML v1.0//EN
BEGIN:VEVENT
UID:afc1477e8ab0f956219c077151607cc6
DTSTAMP:20260424T030745Z

DTSTART:20240813T173000
DTEND:20240813T183000
SUMMARY:Battle Prep - Good Soil - 08.13
DESCRIPTION:⚔ Good Soil ⚔
Battle Prep
Tuesday 08.06
5:30 CT

X-ALT-DESC;FMTTYPE=text/html:<!DOCTYPE HTML PUBLIC "-//W3C//DTD HTML 3.2//EN">\n<HTML>\n<HEAD>\n<META NAME="Generator" CONTENT="MS Exchange Server version 08.00.0681.000">\n<TITLE></TITLE>\n</HEAD>\n<BODY>\n<!-- Converted from text/rtf format -->\n\n⚔ Good Soil ⚔
Battle Prep
Tuesday 08.06
5:30 CT\n\n</BODY>\n</HTML>

LOCATION:
END:VEVENT

END:VCALENDAR
