BEGIN:VCALENDAR
VERSION:2.0
PRODID:-//hacksw/handcal//NONSGML v1.0//EN
BEGIN:VEVENT
UID:b72cf35321060b78c304798e7917b71b
DTSTAMP:20260423T221600Z

DTSTART:20250107T173000
DTEND:20250107T183000
SUMMARY: Battle Prep - Guided - 1.07
DESCRIPTION:⚔ Guided ⚔
Battle Prep
Tuesday 1.07
5:30 CT

X-ALT-DESC;FMTTYPE=text/html:<!DOCTYPE HTML PUBLIC "-//W3C//DTD HTML 3.2//EN">\n<HTML>\n<HEAD>\n<META NAME="Generator" CONTENT="MS Exchange Server version 08.00.0681.000">\n<TITLE></TITLE>\n</HEAD>\n<BODY>\n<!-- Converted from text/rtf format -->\n\n⚔ Guided ⚔
Battle Prep
Tuesday 1.07
5:30 CT\n\n</BODY>\n</HTML>

LOCATION:
END:VEVENT

END:VCALENDAR
