BEGIN:VCALENDAR
VERSION:2.0
PRODID:-//hacksw/handcal//NONSGML v1.0//EN
BEGIN:VEVENT
UID:1b6fafe43730e922079d88677b3f4064
DTSTAMP:20260423T145627Z

DTSTART:20260214T203000
DTEND:20260214T213000
SUMMARY:Battle Prep - Hot Wash - Every Saturday
DESCRIPTION:	\n⚔ Hot Wash ⚔\nBattle Prep\nEvery Saturday\n8:30 PM CT\n\n"Battle Prep - Hot Wash" is a weekly informal open discussion. It is a chance to get to know other members, chat about the prior week, and is a casual setting. All are welcome! Invite friends!

X-ALT-DESC;FMTTYPE=text/html:<!DOCTYPE HTML PUBLIC "-//W3C//DTD HTML 3.2//EN">\n<HTML>\n<HEAD>\n<META NAME="Generator" CONTENT="MS Exchange Server version 08.00.0681.000">\n<TITLE></TITLE>\n</HEAD>\n<BODY>\n<!-- Converted from text/rtf format -->\n\n	<br />⚔ Hot Wash ⚔<br />Battle Prep<br />Every Saturday<br />8:30 PM CT<br /><br />"Battle Prep - Hot Wash" is a weekly informal open discussion. It is a chance to get to know other members, chat about the prior week, and is a casual setting. All are welcome! Invite friends!\n\n</BODY>\n</HTML>

LOCATION:
END:VEVENT

END:VCALENDAR
