BEGIN:VCALENDAR
VERSION:2.0
PRODID:-//hacksw/handcal//NONSGML v1.0//EN
BEGIN:VEVENT
UID:a74edb83c24a74e9fa4735ab735e30ee
DTSTAMP:20260423T095156Z

DTSTART:20250201T203000
DTEND:20250201T213000
SUMMARY:Battle Prep - Hot Wash - Every Saturday
DESCRIPTION:⚔ Hot Wash ⚔\nBattle Prep\nEvery Saturday\n8:30 PM CT\n\n"Battle Prep - Hot Wash" is a weekly informal open discussion that is not recorded. It is a chance to get to know other members, chat about the prior week, and is a casual setting.

X-ALT-DESC;FMTTYPE=text/html:<!DOCTYPE HTML PUBLIC "-//W3C//DTD HTML 3.2//EN">\n<HTML>\n<HEAD>\n<META NAME="Generator" CONTENT="MS Exchange Server version 08.00.0681.000">\n<TITLE></TITLE>\n</HEAD>\n<BODY>\n<!-- Converted from text/rtf format -->\n\n⚔ Hot Wash ⚔<br />Battle Prep<br />Every Saturday<br />8:30 PM CT<br /><br />"Battle Prep - Hot Wash" is a weekly informal open discussion that is not recorded. It is a chance to get to know other members, chat about the prior week, and is a casual setting.\n\n</BODY>\n</HTML>

LOCATION:
END:VEVENT

END:VCALENDAR
