BEGIN:VCALENDAR
VERSION:2.0
PRODID:-//hacksw/handcal//NONSGML v1.0//EN
BEGIN:VEVENT
UID:5bdbdb7262bec18e008743a712c1587c
DTSTAMP:20260423T150554Z

DTSTART:20241008T173000
DTEND:20241008T183000
SUMMARY:Battle Prep - Jump - 10.08
DESCRIPTION:⚔ Jump ⚔
Battle Prep
Tuesday 10.08
5:30 CT

X-ALT-DESC;FMTTYPE=text/html:<!DOCTYPE HTML PUBLIC "-//W3C//DTD HTML 3.2//EN">\n<HTML>\n<HEAD>\n<META NAME="Generator" CONTENT="MS Exchange Server version 08.00.0681.000">\n<TITLE></TITLE>\n</HEAD>\n<BODY>\n<!-- Converted from text/rtf format -->\n\n⚔ Jump ⚔
Battle Prep
Tuesday 10.08
5:30 CT\n\n</BODY>\n</HTML>

LOCATION:
END:VEVENT

END:VCALENDAR
