BEGIN:VCALENDAR
VERSION:2.0
PRODID:-//hacksw/handcal//NONSGML v1.0//EN
BEGIN:VEVENT
UID:9c4773902322ef395c2931f6e2a927b2
DTSTAMP:20260423T133456Z

DTSTART:20260203T173000
DTEND:20260203T183000
SUMMARY:Battle Prep - Lawlessness - 2.03
DESCRIPTION:⚔ Lawlessness ⚔\nBattle Prep\nTuesday 2.03\n5:30 CT

X-ALT-DESC;FMTTYPE=text/html:<!DOCTYPE HTML PUBLIC "-//W3C//DTD HTML 3.2//EN">\n<HTML>\n<HEAD>\n<META NAME="Generator" CONTENT="MS Exchange Server version 08.00.0681.000">\n<TITLE></TITLE>\n</HEAD>\n<BODY>\n<!-- Converted from text/rtf format -->\n\n⚔ Lawlessness ⚔<br />Battle Prep<br />Tuesday 2.03<br />5:30 CT\n\n</BODY>\n</HTML>

LOCATION:
END:VEVENT

END:VCALENDAR
