BEGIN:VCALENDAR
VERSION:2.0
PRODID:-//hacksw/handcal//NONSGML v1.0//EN
BEGIN:VEVENT
UID:34fb699478ed13ddbccd78d34994362a
DTSTAMP:20260423T221734Z

DTSTART:20241224T173000
DTEND:20241224T183000
SUMMARY:Battle Prep - Light & Glory - 12.24
DESCRIPTION:⚔ Light & Glory ⚔\nBattle Prep\nTuesday 12.24\n5:30 CT

X-ALT-DESC;FMTTYPE=text/html:<!DOCTYPE HTML PUBLIC "-//W3C//DTD HTML 3.2//EN">\n<HTML>\n<HEAD>\n<META NAME="Generator" CONTENT="MS Exchange Server version 08.00.0681.000">\n<TITLE></TITLE>\n</HEAD>\n<BODY>\n<!-- Converted from text/rtf format -->\n\n⚔ Light & Glory ⚔<br />Battle Prep<br />Tuesday 12.24<br />5:30 CT\n\n</BODY>\n</HTML>

LOCATION:
END:VEVENT

END:VCALENDAR
