BEGIN:VCALENDAR
VERSION:2.0
PRODID:-//hacksw/handcal//NONSGML v1.0//EN
BEGIN:VEVENT
UID:7db482033739e175a1c2498e0b85be27
DTSTAMP:20260423T121059Z

DTSTART:20250211T173000
DTEND:20250211T183000
SUMMARY:Battle Prep - Masterpiece - 2.11
DESCRIPTION:⚔ Masterpiece ⚔\nBattle Prep\nTuesday 2.11\n5:30 CT

X-ALT-DESC;FMTTYPE=text/html:<!DOCTYPE HTML PUBLIC "-//W3C//DTD HTML 3.2//EN">\n<HTML>\n<HEAD>\n<META NAME="Generator" CONTENT="MS Exchange Server version 08.00.0681.000">\n<TITLE></TITLE>\n</HEAD>\n<BODY>\n<!-- Converted from text/rtf format -->\n\n⚔ Masterpiece ⚔<br />Battle Prep<br />Tuesday 2.11<br />5:30 CT\n\n</BODY>\n</HTML>

LOCATION:
END:VEVENT

END:VCALENDAR
