BEGIN:VCALENDAR
VERSION:2.0
PRODID:-//hacksw/handcal//NONSGML v1.0//EN
BEGIN:VEVENT
UID:f2e4f29c15f8608bfc314616d9b1af49
DTSTAMP:20260423T133456Z

DTSTART:20250128T173000
DTEND:20250128T183000
SUMMARY:Battle Prep - Not Alone - 1.28
DESCRIPTION:⚔ Not Alone ⚔
Battle Prep
Tuesday 1.28
5:30 CT

X-ALT-DESC;FMTTYPE=text/html:<!DOCTYPE HTML PUBLIC "-//W3C//DTD HTML 3.2//EN">\n<HTML>\n<HEAD>\n<META NAME="Generator" CONTENT="MS Exchange Server version 08.00.0681.000">\n<TITLE></TITLE>\n</HEAD>\n<BODY>\n<!-- Converted from text/rtf format -->\n\n⚔ Not Alone ⚔
Battle Prep
Tuesday 1.28
5:30 CT\n\n</BODY>\n</HTML>

LOCATION:
END:VEVENT

END:VCALENDAR
