BEGIN:VCALENDAR
VERSION:2.0
PRODID:-//hacksw/handcal//NONSGML v1.0//EN
BEGIN:VEVENT
UID:0dee7deeced9804632877809a4bff5b3
DTSTAMP:20260423T115908Z

DTSTART:20241022T173000
DTEND:20241022T183000
SUMMARY:Battle Prep - Paramount - 10.22
DESCRIPTION:⚔ Paramount ⚔
Battle Prep
Tuesday 10.22
5:30 CT

X-ALT-DESC;FMTTYPE=text/html:<!DOCTYPE HTML PUBLIC "-//W3C//DTD HTML 3.2//EN">\n<HTML>\n<HEAD>\n<META NAME="Generator" CONTENT="MS Exchange Server version 08.00.0681.000">\n<TITLE></TITLE>\n</HEAD>\n<BODY>\n<!-- Converted from text/rtf format -->\n\n⚔ Paramount ⚔
Battle Prep
Tuesday 10.22
5:30 CT\n\n</BODY>\n</HTML>

LOCATION:
END:VEVENT

END:VCALENDAR
