BEGIN:VCALENDAR
VERSION:2.0
PRODID:-//hacksw/handcal//NONSGML v1.0//EN
BEGIN:VEVENT
UID:259a470278f42a9bf29bdbe8829a3d57
DTSTAMP:20260423T221602Z

DTSTART:20250930T173000
DTEND:20250930T183000
SUMMARY:Battle Prep - POSTGAME - 9.30
DESCRIPTION:⚔ POSTGAME ⚔\nBattle Prep\nTuesday 9.30\n5:30 CT

X-ALT-DESC;FMTTYPE=text/html:<!DOCTYPE HTML PUBLIC "-//W3C//DTD HTML 3.2//EN">\n<HTML>\n<HEAD>\n<META NAME="Generator" CONTENT="MS Exchange Server version 08.00.0681.000">\n<TITLE></TITLE>\n</HEAD>\n<BODY>\n<!-- Converted from text/rtf format -->\n\n⚔ POSTGAME ⚔<br />Battle Prep<br />Tuesday 9.30<br />5:30 CT\n\n</BODY>\n</HTML>

LOCATION:
END:VEVENT

END:VCALENDAR
