BEGIN:VCALENDAR
VERSION:2.0
PRODID:-//hacksw/handcal//NONSGML v1.0//EN
BEGIN:VEVENT
UID:83539de5ed51beb2f19744953596d43b
DTSTAMP:20260423T121344Z

DTSTART:20251028T173000
DTEND:20251028T180000
SUMMARY:Battle Prep - PREGAME - 10.28
DESCRIPTION:⚔ PREGAME ⚔\nBattle Prep\nTuesday 10.28\n5:30 CT

X-ALT-DESC;FMTTYPE=text/html:<!DOCTYPE HTML PUBLIC "-//W3C//DTD HTML 3.2//EN">\n<HTML>\n<HEAD>\n<META NAME="Generator" CONTENT="MS Exchange Server version 08.00.0681.000">\n<TITLE></TITLE>\n</HEAD>\n<BODY>\n<!-- Converted from text/rtf format -->\n\n⚔ PREGAME ⚔<br />Battle Prep<br />Tuesday 10.28<br />5:30 CT\n\n</BODY>\n</HTML>

LOCATION:
END:VEVENT

END:VCALENDAR
