BEGIN:VCALENDAR
VERSION:2.0
PRODID:-//hacksw/handcal//NONSGML v1.0//EN
BEGIN:VEVENT
UID:01f17eb03c30b8989a958dcac81952ad
DTSTAMP:20260423T195328Z

DTSTART:20251125T173000
DTEND:20251125T180000
SUMMARY:Battle Prep - PREGAME - 11.25
DESCRIPTION:⚔ PREGAME ⚔\nBattle Prep\nTuesday 11.25\n5:30 CT

X-ALT-DESC;FMTTYPE=text/html:<!DOCTYPE HTML PUBLIC "-//W3C//DTD HTML 3.2//EN">\n<HTML>\n<HEAD>\n<META NAME="Generator" CONTENT="MS Exchange Server version 08.00.0681.000">\n<TITLE></TITLE>\n</HEAD>\n<BODY>\n<!-- Converted from text/rtf format -->\n\n⚔ PREGAME ⚔<br />Battle Prep<br />Tuesday 11.25<br />5:30 CT\n\n</BODY>\n</HTML>

LOCATION:
END:VEVENT

END:VCALENDAR
