BEGIN:VCALENDAR
VERSION:2.0
PRODID:-//hacksw/handcal//NONSGML v1.0//EN
BEGIN:VEVENT
UID:73a90d46fa4102e0d1fc2e825a00048a
DTSTAMP:20260423T150715Z

DTSTART:20250729T173000
DTEND:20250729T180000
SUMMARY:Battle Prep - PREGAME - 7.29
DESCRIPTION:⚔ PREGAME ⚔\nBattle Prep\nTuesday 7.29\n5:30 CT

X-ALT-DESC;FMTTYPE=text/html:<!DOCTYPE HTML PUBLIC "-//W3C//DTD HTML 3.2//EN">\n<HTML>\n<HEAD>\n<META NAME="Generator" CONTENT="MS Exchange Server version 08.00.0681.000">\n<TITLE></TITLE>\n</HEAD>\n<BODY>\n<!-- Converted from text/rtf format -->\n\n⚔ PREGAME ⚔<br />Battle Prep<br />Tuesday 7.29<br />5:30 CT\n\n</BODY>\n</HTML>

LOCATION:
END:VEVENT

END:VCALENDAR
