BEGIN:VCALENDAR
VERSION:2.0
PRODID:-//hacksw/handcal//NONSGML v1.0//EN
BEGIN:VEVENT
UID:b61e6afe3779e52557c64508499c7e53
DTSTAMP:20260423T094959Z

DTSTART:20250513T173000
DTEND:20250513T183000
SUMMARY:Battle Prep - Psalms 143 - 5.13
DESCRIPTION:⚔ Psalms 143 ⚔\nBattle Prep\nTuesday 5.13\n5:30 CT

X-ALT-DESC;FMTTYPE=text/html:<!DOCTYPE HTML PUBLIC "-//W3C//DTD HTML 3.2//EN">\n<HTML>\n<HEAD>\n<META NAME="Generator" CONTENT="MS Exchange Server version 08.00.0681.000">\n<TITLE></TITLE>\n</HEAD>\n<BODY>\n<!-- Converted from text/rtf format -->\n\n⚔ Psalms 143 ⚔<br />Battle Prep<br />Tuesday 5.13<br />5:30 CT\n\n</BODY>\n</HTML>

LOCATION:
END:VEVENT

END:VCALENDAR
