BEGIN:VCALENDAR
VERSION:2.0
PRODID:-//hacksw/handcal//NONSGML v1.0//EN
BEGIN:VEVENT
UID:d0f01bd615b24678df15175dcc5ab54d
DTSTAMP:20260423T233740Z

DTSTART:20251202T173000
DTEND:20251202T183000
SUMMARY:Battle Prep - RESET - 12.02
DESCRIPTION:⚔ RESET ⚔\nBattle Prep\nTuesday 12.02\n5:30 CT

X-ALT-DESC;FMTTYPE=text/html:<!DOCTYPE HTML PUBLIC "-//W3C//DTD HTML 3.2//EN">\n<HTML>\n<HEAD>\n<META NAME="Generator" CONTENT="MS Exchange Server version 08.00.0681.000">\n<TITLE></TITLE>\n</HEAD>\n<BODY>\n<!-- Converted from text/rtf format -->\n\n⚔ RESET ⚔<br />Battle Prep<br />Tuesday 12.02<br />5:30 CT\n\n</BODY>\n</HTML>

LOCATION:
END:VEVENT

END:VCALENDAR
