BEGIN:VCALENDAR
VERSION:2.0
PRODID:-//hacksw/handcal//NONSGML v1.0//EN
BEGIN:VEVENT
UID:d9d82d3da7666f42408705dfb49cbba9
DTSTAMP:20260423T181518Z

DTSTART:20240625T173000
DTEND:20240625T183000
SUMMARY:Battle Prep - SITREP - 06.25
DESCRIPTION:⚔ SITREP ⚔
Battle Prep
Tuesday 06.25
5:30 CT

This Battle Prep will not be recorded.

X-ALT-DESC;FMTTYPE=text/html:<!DOCTYPE HTML PUBLIC "-//W3C//DTD HTML 3.2//EN">\n<HTML>\n<HEAD>\n<META NAME="Generator" CONTENT="MS Exchange Server version 08.00.0681.000">\n<TITLE></TITLE>\n</HEAD>\n<BODY>\n<!-- Converted from text/rtf format -->\n\n⚔ SITREP ⚔
Battle Prep
Tuesday 06.25
5:30 CT

This Battle Prep will not be recorded.\n\n</BODY>\n</HTML>

LOCATION:
END:VEVENT

END:VCALENDAR
