BEGIN:VCALENDAR
VERSION:2.0
PRODID:-//hacksw/handcal//NONSGML v1.0//EN
BEGIN:VEVENT
UID:89eca5d3843f7fd1003623ef17f8d504
DTSTAMP:20260423T121005Z

DTSTART:20240730T173000
DTEND:20240730T183000
SUMMARY:Battle Prep - SITREP - 07.30
DESCRIPTION:⚔ SITREP ⚔\nBattle Prep\nTuesday 07.30\n5:30 CT\n\nOpen discussion for the group.  Will not be recorded.

X-ALT-DESC;FMTTYPE=text/html:<!DOCTYPE HTML PUBLIC "-//W3C//DTD HTML 3.2//EN">\n<HTML>\n<HEAD>\n<META NAME="Generator" CONTENT="MS Exchange Server version 08.00.0681.000">\n<TITLE></TITLE>\n</HEAD>\n<BODY>\n<!-- Converted from text/rtf format -->\n\n⚔ SITREP ⚔<br />Battle Prep<br />Tuesday 07.30<br />5:30 CT<br /><br />Open discussion for the group.  Will not be recorded.\n\n</BODY>\n</HTML>

LOCATION:
END:VEVENT

END:VCALENDAR
