BEGIN:VCALENDAR
VERSION:2.0
PRODID:-//hacksw/handcal//NONSGML v1.0//EN
BEGIN:VEVENT
UID:fad1bbbb2168f3cf396943754358e0f6
DTSTAMP:20260423T181559Z

DTSTART:20240903T173000
DTEND:20240903T183000
SUMMARY:Battle Prep - SITREP - 09.03
DESCRIPTION:⚔ SITREP ⚔
Battle Prep
Tuesday 09.03
5:30 CT

X-ALT-DESC;FMTTYPE=text/html:<!DOCTYPE HTML PUBLIC "-//W3C//DTD HTML 3.2//EN">\n<HTML>\n<HEAD>\n<META NAME="Generator" CONTENT="MS Exchange Server version 08.00.0681.000">\n<TITLE></TITLE>\n</HEAD>\n<BODY>\n<!-- Converted from text/rtf format -->\n\n⚔ SITREP ⚔
Battle Prep
Tuesday 09.03
5:30 CT\n\n</BODY>\n</HTML>

LOCATION:
END:VEVENT

END:VCALENDAR
