BEGIN:VCALENDAR
VERSION:2.0
PRODID:-//hacksw/handcal//NONSGML v1.0//EN
BEGIN:VEVENT
UID:0f3f2bce3c3073b1e31530764b3e88be
DTSTAMP:20260423T094612Z

DTSTART:20250114T173000
DTEND:20250114T183000
SUMMARY:Battle Prep - SITREP - 1.14
DESCRIPTION:	
⚔ SITREP ⚔
Battle Prep
Tuesday 10.15
5:30 CT

X-ALT-DESC;FMTTYPE=text/html:<!DOCTYPE HTML PUBLIC "-//W3C//DTD HTML 3.2//EN">\n<HTML>\n<HEAD>\n<META NAME="Generator" CONTENT="MS Exchange Server version 08.00.0681.000">\n<TITLE></TITLE>\n</HEAD>\n<BODY>\n<!-- Converted from text/rtf format -->\n\n	
⚔ SITREP ⚔
Battle Prep
Tuesday 10.15
5:30 CT\n\n</BODY>\n</HTML>

LOCATION:
END:VEVENT

END:VCALENDAR
