BEGIN:VCALENDAR
VERSION:2.0
PRODID:-//hacksw/handcal//NONSGML v1.0//EN
BEGIN:VEVENT
UID:ccba7d673f8a0329d3ff42ab2c2c7cc6
DTSTAMP:20260423T094612Z

DTSTART:20251014T173000
DTEND:20251014T183000
SUMMARY:Battle Prep - SITREP - 10.14
DESCRIPTION:⚔ SITREP ⚔\nBattle Prep\nTuesday 10.14\n5:30 CT

X-ALT-DESC;FMTTYPE=text/html:<!DOCTYPE HTML PUBLIC "-//W3C//DTD HTML 3.2//EN">\n<HTML>\n<HEAD>\n<META NAME="Generator" CONTENT="MS Exchange Server version 08.00.0681.000">\n<TITLE></TITLE>\n</HEAD>\n<BODY>\n<!-- Converted from text/rtf format -->\n\n⚔ SITREP ⚔<br />Battle Prep<br />Tuesday 10.14<br />5:30 CT\n\n</BODY>\n</HTML>

LOCATION:
END:VEVENT

END:VCALENDAR
