BEGIN:VCALENDAR
VERSION:2.0
PRODID:-//hacksw/handcal//NONSGML v1.0//EN
BEGIN:VEVENT
UID:4ed683a35148de9d188d0cfde25e62bd
DTSTAMP:20260423T181340Z

DTSTART:20260217T173000
DTEND:20260217T183000
SUMMARY:Battle Prep - SITREP - 2.17
DESCRIPTION:⚔ SITREP ⚔\nBattle Prep\nTuesday 2.17\n5:30 CT

X-ALT-DESC;FMTTYPE=text/html:<!DOCTYPE HTML PUBLIC "-//W3C//DTD HTML 3.2//EN">\n<HTML>\n<HEAD>\n<META NAME="Generator" CONTENT="MS Exchange Server version 08.00.0681.000">\n<TITLE></TITLE>\n</HEAD>\n<BODY>\n<!-- Converted from text/rtf format -->\n\n⚔ SITREP ⚔<br />Battle Prep<br />Tuesday 2.17<br />5:30 CT\n\n</BODY>\n</HTML>

LOCATION:
END:VEVENT

END:VCALENDAR
