BEGIN:VCALENDAR
VERSION:2.0
PRODID:-//hacksw/handcal//NONSGML v1.0//EN
BEGIN:VEVENT
UID:79593580a5bab23fad409b394571a822
DTSTAMP:20260422T002537Z

DTSTART:20260421T180000
DTEND:20260421T190000
SUMMARY:Battle Prep - SITREP - 4.21
DESCRIPTION:⚔ SITREP ⚔\nBattle Prep\nTuesday 4.21\n6:00 PM CT

X-ALT-DESC;FMTTYPE=text/html:<!DOCTYPE HTML PUBLIC "-//W3C//DTD HTML 3.2//EN">\n<HTML>\n<HEAD>\n<META NAME="Generator" CONTENT="MS Exchange Server version 08.00.0681.000">\n<TITLE></TITLE>\n</HEAD>\n<BODY>\n<!-- Converted from text/rtf format -->\n\n⚔ SITREP ⚔<br />Battle Prep<br />Tuesday 4.21<br />6:00 PM CT\n\n</BODY>\n</HTML>

LOCATION:
END:VEVENT

END:VCALENDAR
