BEGIN:VCALENDAR
VERSION:2.0
PRODID:-//hacksw/handcal//NONSGML v1.0//EN
BEGIN:VEVENT
UID:caebcf99c061bdd391883da549b38b8c
DTSTAMP:20260423T133321Z

DTSTART:20250819T173000
DTEND:20250819T183000
SUMMARY:Battle Prep - SITREP - 8.19
DESCRIPTION:⚔ SITREP ⚔\nBattle Prep\nTuesday 8.19\n5:30 CT\n

X-ALT-DESC;FMTTYPE=text/html:<!DOCTYPE HTML PUBLIC "-//W3C//DTD HTML 3.2//EN">\n<HTML>\n<HEAD>\n<META NAME="Generator" CONTENT="MS Exchange Server version 08.00.0681.000">\n<TITLE></TITLE>\n</HEAD>\n<BODY>\n<!-- Converted from text/rtf format -->\n\n⚔ SITREP ⚔<br />Battle Prep<br />Tuesday 8.19<br />5:30 CT<br />\n\n</BODY>\n</HTML>

LOCATION:
END:VEVENT

END:VCALENDAR
