BEGIN:VCALENDAR
VERSION:2.0
PRODID:-//hacksw/handcal//NONSGML v1.0//EN
BEGIN:VEVENT
UID:8342d30825d71c1ade0b0fdfc75543ea
DTSTAMP:20260423T195211Z

DTSTART:20250422T173000
DTEND:20250422T183000
SUMMARY:Battle Prep - SITREP Holy Week - 4.22
DESCRIPTION:⚔ SITREP Holy Week ⚔\nBattle Prep\nTuesday 4.22\n5:30 CT

X-ALT-DESC;FMTTYPE=text/html:<!DOCTYPE HTML PUBLIC "-//W3C//DTD HTML 3.2//EN">\n<HTML>\n<HEAD>\n<META NAME="Generator" CONTENT="MS Exchange Server version 08.00.0681.000">\n<TITLE></TITLE>\n</HEAD>\n<BODY>\n<!-- Converted from text/rtf format -->\n\n⚔ SITREP Holy Week ⚔<br />Battle Prep<br />Tuesday 4.22<br />5:30 CT\n\n</BODY>\n</HTML>

LOCATION:
END:VEVENT

END:VCALENDAR
