BEGIN:VCALENDAR
VERSION:2.0
PRODID:-//hacksw/handcal//NONSGML v1.0//EN
BEGIN:VEVENT
UID:74d03153b7297fb0716f58242f939bf7
DTSTAMP:20260423T151547Z

DTSTART:20241210T173000
DTEND:20241210T183000
SUMMARY:Battle Prep - Standing Firm - 12.10
DESCRIPTION:⚔ Standing Firm ⚔
Battle Prep
Tuesday 12.10
5:30 CT

X-ALT-DESC;FMTTYPE=text/html:<!DOCTYPE HTML PUBLIC "-//W3C//DTD HTML 3.2//EN">\n<HTML>\n<HEAD>\n<META NAME="Generator" CONTENT="MS Exchange Server version 08.00.0681.000">\n<TITLE></TITLE>\n</HEAD>\n<BODY>\n<!-- Converted from text/rtf format -->\n\n⚔ Standing Firm ⚔
Battle Prep
Tuesday 12.10
5:30 CT\n\n</BODY>\n</HTML>

LOCATION:
END:VEVENT

END:VCALENDAR
