BEGIN:VCALENDAR
VERSION:2.0
PRODID:-//hacksw/handcal//NONSGML v1.0//EN
BEGIN:VEVENT
UID:44a97338560523cf18166a44a3194416
DTSTAMP:20260423T094847Z

DTSTART:20250520T173000
DTEND:20250520T183000
SUMMARY:Battle Prep - Time is Now - 5.20
DESCRIPTION:⚔ Time is Now ⚔\nBattle Prep\nTuesday 5.20\n5:30 CT

X-ALT-DESC;FMTTYPE=text/html:<!DOCTYPE HTML PUBLIC "-//W3C//DTD HTML 3.2//EN">\n<HTML>\n<HEAD>\n<META NAME="Generator" CONTENT="MS Exchange Server version 08.00.0681.000">\n<TITLE></TITLE>\n</HEAD>\n<BODY>\n<!-- Converted from text/rtf format -->\n\n⚔ Time is Now ⚔<br />Battle Prep<br />Tuesday 5.20<br />5:30 CT\n\n</BODY>\n</HTML>

LOCATION:
END:VEVENT

END:VCALENDAR
