BEGIN:VCALENDAR
VERSION:2.0
PRODID:-//hacksw/handcal//NONSGML v1.0//EN
BEGIN:VEVENT
UID:1bad38d25856c5b7debd3d4f39d1f904
DTSTAMP:20260423T234731Z

DTSTART:20240521T173000
DTEND:20240521T183000
SUMMARY:Head or Tail - Battle Prep - 05.21
DESCRIPTION:⚔ Head or Tail ⚔
Battle Prep
Tuesday 05.21
5:30 CT

Mark Asbury is inviting you to a scheduled Zoom meeting.

Topic: Battle Prep - Head or Tail - 05.21
Time: May 21, 2024 05:30 PM Central Time (US and Canada)

Join Zoom Meeting
https://us06web.zoom.us/j/82577224287?pwd=94iqpQAUDdlNhWCAV0QNWsa2Oyz5UV.1

Meeting ID: 825 7722 4287
Passcode: 890745

---

One tap mobile
+16694449171,,82577224287#,,,,*890745# US
+17193594580,,82577224287#,,,,*890745# US

---

Dial by your location
• +1 669 444 9171 US
• +1 719 359 4580 US
• +1 720 707 2699 US (Denver)
• +1 253 205 0468 US
• +1 253 215 8782 US (Tacoma)
• +1 346 248 7799 US (Houston)
• +1 312 626 6799 US (Chicago)
• +1 360 209 5623 US
• +1 386 347 5053 US
• +1 507 473 4847 US
• +1 564 217 2000 US
• +1 646 558 8656 US (New York)
• +1 646 931 3860 US
• +1 689 278 1000 US
• +1 301 715 8592 US (Washington DC)
• +1 305 224 1968 US
• +1 309 205 3325 US

Meeting ID: 825 7722 4287
Passcode: 890745

Find your local number: https://us06web.zoom.us/u/kd7dUlJyHV

X-ALT-DESC;FMTTYPE=text/html:<!DOCTYPE HTML PUBLIC "-//W3C//DTD HTML 3.2//EN">\n<HTML>\n<HEAD>\n<META NAME="Generator" CONTENT="MS Exchange Server version 08.00.0681.000">\n<TITLE></TITLE>\n</HEAD>\n<BODY>\n<!-- Converted from text/rtf format -->\n\n⚔ Head or Tail ⚔
Battle Prep
Tuesday 05.21
5:30 CT

Mark Asbury is inviting you to a scheduled Zoom meeting.

Topic: Battle Prep - Head or Tail - 05.21
Time: May 21, 2024 05:30 PM Central Time (US and Canada)

Join Zoom Meeting
https://us06web.zoom.us/j/82577224287?pwd=94iqpQAUDdlNhWCAV0QNWsa2Oyz5UV.1

Meeting ID: 825 7722 4287
Passcode: 890745

---

One tap mobile
+16694449171,,82577224287#,,,,*890745# US
+17193594580,,82577224287#,,,,*890745# US

---

Dial by your location
• +1 669 444 9171 US
• +1 719 359 4580 US
• +1 720 707 2699 US (Denver)
• +1 253 205 0468 US
• +1 253 215 8782 US (Tacoma)
• +1 346 248 7799 US (Houston)
• +1 312 626 6799 US (Chicago)
• +1 360 209 5623 US
• +1 386 347 5053 US
• +1 507 473 4847 US
• +1 564 217 2000 US
• +1 646 558 8656 US (New York)
• +1 646 931 3860 US
• +1 689 278 1000 US
• +1 301 715 8592 US (Washington DC)
• +1 305 224 1968 US
• +1 309 205 3325 US

Meeting ID: 825 7722 4287
Passcode: 890745

Find your local number: https://us06web.zoom.us/u/kd7dUlJyHV\n\n</BODY>\n</HTML>

LOCATION:
END:VEVENT

END:VCALENDAR
