BEGIN:VCALENDAR
VERSION:2.0
PRODID:-//hacksw/handcal//NONSGML v1.0//EN
BEGIN:VEVENT
UID:965edd3465063f4aafbb7d8207b33eea
DTSTAMP:20260423T121204Z

DTSTART:20240514T173000
DTEND:20240514T183000
SUMMARY:Never Quit - Battle Prep - 05.14
DESCRIPTION:⚔ Never Quit ⚔\nBattle Prep\nTuesday 05.14\n5:30 CT

X-ALT-DESC;FMTTYPE=text/html:<!DOCTYPE HTML PUBLIC "-//W3C//DTD HTML 3.2//EN">\n<HTML>\n<HEAD>\n<META NAME="Generator" CONTENT="MS Exchange Server version 08.00.0681.000">\n<TITLE></TITLE>\n</HEAD>\n<BODY>\n<!-- Converted from text/rtf format -->\n\n⚔ Never Quit ⚔<br />Battle Prep<br />Tuesday 05.14<br />5:30 CT\n\n</BODY>\n</HTML>

LOCATION:
END:VEVENT

END:VCALENDAR
