BEGIN:VCALENDAR
VERSION:2.0
PRODID:-//hacksw/handcal//NONSGML v1.0//EN
BEGIN:VEVENT
UID:ca3e9d121efaf41385d7838a9f8d3183
DTSTAMP:20260423T234732Z

DTSTART:20240507T173000
DTEND:20240507T183000
SUMMARY:Tested - Battle Prep - 05.07
DESCRIPTION:⚔ Tested ⚔
Battle Prep
Tuesday 05.07
5:30 CT

X-ALT-DESC;FMTTYPE=text/html:<!DOCTYPE HTML PUBLIC "-//W3C//DTD HTML 3.2//EN">\n<HTML>\n<HEAD>\n<META NAME="Generator" CONTENT="MS Exchange Server version 08.00.0681.000">\n<TITLE></TITLE>\n</HEAD>\n<BODY>\n<!-- Converted from text/rtf format -->\n\n⚔ Tested ⚔
Battle Prep
Tuesday 05.07
5:30 CT\n\n</BODY>\n</HTML>

LOCATION:
END:VEVENT

END:VCALENDAR
